BEGIN:VCALENDAR
VERSION:2.0
PRODID:-//The Loveless Cafe - ECPv6.15.11//NONSGML v1.0//EN
CALSCALE:GREGORIAN
METHOD:PUBLISH
X-WR-CALNAME:The Loveless Cafe
X-ORIGINAL-URL:https://lovelesscafe.com
X-WR-CALDESC:Events for The Loveless Cafe
REFRESH-INTERVAL;VALUE=DURATION:PT1H
X-Robots-Tag:noindex
X-PUBLISHED-TTL:PT1H
BEGIN:VTIMEZONE
TZID:America/Chicago
BEGIN:DAYLIGHT
TZOFFSETFROM:-0600
TZOFFSETTO:-0500
TZNAME:CDT
DTSTART:20230312T080000
END:DAYLIGHT
BEGIN:STANDARD
TZOFFSETFROM:-0500
TZOFFSETTO:-0600
TZNAME:CST
DTSTART:20231105T070000
END:STANDARD
BEGIN:DAYLIGHT
TZOFFSETFROM:-0600
TZOFFSETTO:-0500
TZNAME:CDT
DTSTART:20240310T080000
END:DAYLIGHT
BEGIN:STANDARD
TZOFFSETFROM:-0500
TZOFFSETTO:-0600
TZNAME:CST
DTSTART:20241103T070000
END:STANDARD
BEGIN:DAYLIGHT
TZOFFSETFROM:-0600
TZOFFSETTO:-0500
TZNAME:CDT
DTSTART:20250309T080000
END:DAYLIGHT
BEGIN:STANDARD
TZOFFSETFROM:-0500
TZOFFSETTO:-0600
TZNAME:CST
DTSTART:20251102T070000
END:STANDARD
END:VTIMEZONE
BEGIN:VEVENT
DTSTART;TZID=America/Chicago:20240921T100000
DTEND;TZID=America/Chicago:20240921T140000
DTSTAMP:20260420T053450
CREATED:20240911T194252Z
LAST-MODIFIED:20240911T194252Z
UID:8410413016095-1726912800-1726927200@lovelesscafe.com
SUMMARY:Oak Grove Farms Fall Fest
DESCRIPTION:Saturday\, September 21\, 2024\n10:00 A.m. – 2:00 p.m.\n\nJoin Oak Grove Farms on September 21 anytime from 10AM – 2PM for their 3rd Annual Fall Fest! This is a family-fun event to show their appreciation to you all! They will have pumpkin painting\, animals\, food trucks\, photo ops\, special discounts\, and more!
URL:https://lovelesscafe.com/event/oak-grove-farms-fall-fest/
LOCATION:Oak Grove Market\, 517 W Main St\, Gallatin\, TN\, 37066\, United States
CATEGORIES:Food Truck
ATTACH;FMTTYPE=image/jpeg:https://lovelesscafe.com/wp-content/uploads/2024/09/Oak-grove-farms-market-.jpg
END:VEVENT
END:VCALENDAR