BEGIN:VCALENDAR
VERSION:2.0
PRODID:-//The Loveless Cafe - ECPv6.15.11//NONSGML v1.0//EN
CALSCALE:GREGORIAN
METHOD:PUBLISH
X-WR-CALNAME:The Loveless Cafe
X-ORIGINAL-URL:https://lovelesscafe.com
X-WR-CALDESC:Events for The Loveless Cafe
REFRESH-INTERVAL;VALUE=DURATION:PT1H
X-Robots-Tag:noindex
X-PUBLISHED-TTL:PT1H
BEGIN:VTIMEZONE
TZID:America/Chicago
BEGIN:DAYLIGHT
TZOFFSETFROM:-0600
TZOFFSETTO:-0500
TZNAME:CDT
DTSTART:20240310T080000
END:DAYLIGHT
BEGIN:STANDARD
TZOFFSETFROM:-0500
TZOFFSETTO:-0600
TZNAME:CST
DTSTART:20241103T070000
END:STANDARD
BEGIN:DAYLIGHT
TZOFFSETFROM:-0600
TZOFFSETTO:-0500
TZNAME:CDT
DTSTART:20250309T080000
END:DAYLIGHT
BEGIN:STANDARD
TZOFFSETFROM:-0500
TZOFFSETTO:-0600
TZNAME:CST
DTSTART:20251102T070000
END:STANDARD
BEGIN:DAYLIGHT
TZOFFSETFROM:-0600
TZOFFSETTO:-0500
TZNAME:CDT
DTSTART:20260308T080000
END:DAYLIGHT
BEGIN:STANDARD
TZOFFSETFROM:-0500
TZOFFSETTO:-0600
TZNAME:CST
DTSTART:20261101T070000
END:STANDARD
END:VTIMEZONE
BEGIN:VEVENT
DTSTART;TZID=America/Chicago:20250725T170000
DTEND;TZID=America/Chicago:20250725T200000
DTSTAMP:20260420T132014
CREATED:20250708T181832Z
LAST-MODIFIED:20250708T181832Z
UID:8410413017133-1753462800-1753473600@lovelesscafe.com
SUMMARY:Fish Fry-Day
DESCRIPTION:Friday\, July 25\, 2024\n5:00 p.m. – 8:00 p.m.\nCome on down\, y’all! Dive into our second annual Fish Fry-Day at the Loveless Barn on Friday\, July 25 from 5 p.m. – 8 p.m. – all while supporting a great cause! Reel in fun with a full-sized bounce house\, carnival games\, live music\, balloon artist\, face painter\, local vendors\, and\, don’t forget\, a fish fry buffet with all of your favorite Southern fixins! We’ll see y’all there! \n\n        \n            Purchase Tickets\n        \n    \nTicket price includes: \n\nFull Fish Fry Buffet with Classic and Nashville Hot Fried Catfish\, Deep Fried Peanut Butter & Jellies\, Loveless Cafe Biscuits\, and made-from-scratch Southern sides\nUnlimited Water\, Tea\, and Lemonade\nBounce House\, Face Painter\, Carnival Games\, and more!\nLive Music\nDessert\n\nSignature Fish Fry-Day Cocktail and Local and Domestic Beers will be available for purchase \n—————— \n*10% of proceeds will benefit Harpeth Valley Elementary School.
URL:https://lovelesscafe.com/event/fish-fry-day-2/
LOCATION:Loveless Barn\, 8400 TN-100\, Nashville\, TN\, 37211\, United States
CATEGORIES:Community Event
ATTACH;FMTTYPE=image/jpeg:https://lovelesscafe.com/wp-content/uploads/2023/06/FishFry_Social_SQ.jpg
END:VEVENT
END:VCALENDAR